BEGIN:VCALENDAR
VERSION:2.0
PRODID:-//Vassar Township - ECPv6.15.13//NONSGML v1.0//EN
CALSCALE:GREGORIAN
METHOD:PUBLISH
X-WR-CALNAME:Vassar Township
X-ORIGINAL-URL:https://vassartownship.org
X-WR-CALDESC:Events for Vassar Township
REFRESH-INTERVAL;VALUE=DURATION:PT1H
X-Robots-Tag:noindex
X-PUBLISHED-TTL:PT1H
BEGIN:VTIMEZONE
TZID:America/Detroit
BEGIN:DAYLIGHT
TZOFFSETFROM:-0500
TZOFFSETTO:-0400
TZNAME:EDT
DTSTART:20250309T070000
END:DAYLIGHT
BEGIN:STANDARD
TZOFFSETFROM:-0400
TZOFFSETTO:-0500
TZNAME:EST
DTSTART:20251102T060000
END:STANDARD
BEGIN:DAYLIGHT
TZOFFSETFROM:-0500
TZOFFSETTO:-0400
TZNAME:EDT
DTSTART:20260308T070000
END:DAYLIGHT
BEGIN:STANDARD
TZOFFSETFROM:-0400
TZOFFSETTO:-0500
TZNAME:EST
DTSTART:20261101T060000
END:STANDARD
BEGIN:DAYLIGHT
TZOFFSETFROM:-0500
TZOFFSETTO:-0400
TZNAME:EDT
DTSTART:20270314T070000
END:DAYLIGHT
BEGIN:STANDARD
TZOFFSETFROM:-0400
TZOFFSETTO:-0500
TZNAME:EST
DTSTART:20271107T060000
END:STANDARD
END:VTIMEZONE
BEGIN:VEVENT
DTSTART;VALUE=DATE:20260102
DTEND;VALUE=DATE:20260103
DTSTAMP:20260420T125026
CREATED:20251030T161914Z
LAST-MODIFIED:20251030T161914Z
UID:3359-1767312000-1767398399@vassartownship.org
SUMMARY:Trash and Recycling Pick Up
DESCRIPTION:
URL:https://vassartownship.org/event/trash-and-recycling-pick-up-14/
CATEGORIES:General Event
END:VEVENT
BEGIN:VEVENT
DTSTART;TZID=America/Detroit:20260107T190000
DTEND;TZID=America/Detroit:20260107T200000
DTSTAMP:20260420T125026
CREATED:20251030T161150Z
LAST-MODIFIED:20251030T161150Z
UID:3335-1767812400-1767816000@vassartownship.org
SUMMARY:Parks and Recreation Regular Meeting
DESCRIPTION:
URL:https://vassartownship.org/event/parks-and-recreation-regular-meeting-7/
CATEGORIES:Parks & Recreation
END:VEVENT
BEGIN:VEVENT
DTSTART;VALUE=DATE:20260108
DTEND;VALUE=DATE:20260109
DTSTAMP:20260420T125026
CREATED:20251030T162720Z
LAST-MODIFIED:20251030T162720Z
UID:3413-1767830400-1767916799@vassartownship.org
SUMMARY:Trash Pick Up
DESCRIPTION:
URL:https://vassartownship.org/event/trash-pick-up-12/
CATEGORIES:General Event
END:VEVENT
BEGIN:VEVENT
DTSTART;TZID=America/Detroit:20260108T190000
DTEND;TZID=America/Detroit:20260108T200000
DTSTAMP:20260420T125026
CREATED:20251030T160853Z
LAST-MODIFIED:20251030T160853Z
UID:3323-1767898800-1767902400@vassartownship.org
SUMMARY:Planning Commission Regular Meeting
DESCRIPTION:
URL:https://vassartownship.org/event/planning-commission-regular-meeting-43/
CATEGORIES:Planning Commission
END:VEVENT
BEGIN:VEVENT
DTSTART;TZID=America/Detroit:20260113T190000
DTEND;TZID=America/Detroit:20260113T200000
DTSTAMP:20260420T125026
CREATED:20251030T161414Z
LAST-MODIFIED:20251030T161414Z
UID:3347-1768330800-1768334400@vassartownship.org
SUMMARY:Board of Trustees Regular Meeting
DESCRIPTION:
URL:https://vassartownship.org/event/board-of-trustees-regular-meeting-18/
CATEGORIES:Board of Trustees
END:VEVENT
BEGIN:VEVENT
DTSTART;VALUE=DATE:20260115
DTEND;VALUE=DATE:20260116
DTSTAMP:20260420T125026
CREATED:20251030T161931Z
LAST-MODIFIED:20251030T161931Z
UID:3361-1768435200-1768521599@vassartownship.org
SUMMARY:Trash and Recycling Pick Up
DESCRIPTION:
URL:https://vassartownship.org/event/trash-and-recycling-pick-up-15/
CATEGORIES:General Event
END:VEVENT
BEGIN:VEVENT
DTSTART;TZID=America/Detroit:20260119T080000
DTEND;TZID=America/Detroit:20260119T170000
DTSTAMP:20260420T125026
CREATED:20260105T224044Z
LAST-MODIFIED:20260105T224044Z
UID:3512-1768809600-1768842000@vassartownship.org
SUMMARY:hall closed
DESCRIPTION:
URL:https://vassartownship.org/event/hall-closed-18/
CATEGORIES:Hours
END:VEVENT
BEGIN:VEVENT
DTSTART;VALUE=DATE:20260122
DTEND;VALUE=DATE:20260123
DTSTAMP:20260420T125026
CREATED:20251030T162734Z
LAST-MODIFIED:20251030T162734Z
UID:3415-1769040000-1769126399@vassartownship.org
SUMMARY:Trash Pick Up
DESCRIPTION:
URL:https://vassartownship.org/event/trash-pick-up-13/
CATEGORIES:General Event
END:VEVENT
BEGIN:VEVENT
DTSTART;TZID=America/Detroit:20260125T110000
DTEND;TZID=America/Detroit:20260125T170000
DTSTAMP:20260420T125026
CREATED:20260122T215801Z
LAST-MODIFIED:20260122T215801Z
UID:3539-1769338800-1769360400@vassartownship.org
SUMMARY:Amanda Birthday Party
DESCRIPTION:
URL:https://vassartownship.org/event/amanda-birthday-party/
CATEGORIES:General Event
END:VEVENT
BEGIN:VEVENT
DTSTART;VALUE=DATE:20260129
DTEND;VALUE=DATE:20260130
DTSTAMP:20260420T125026
CREATED:20251030T161944Z
LAST-MODIFIED:20251030T161944Z
UID:3363-1769644800-1769731199@vassartownship.org
SUMMARY:Trash and Recycling Pick Up
DESCRIPTION:
URL:https://vassartownship.org/event/trash-and-recycling-pick-up-16/
CATEGORIES:General Event
END:VEVENT
BEGIN:VEVENT
DTSTART;TZID=America/Detroit:20260131T090000
DTEND;TZID=America/Detroit:20260131T230000
DTSTAMP:20260420T125026
CREATED:20251104T173636Z
LAST-MODIFIED:20251104T174519Z
UID:3450-1769850000-1769900400@vassartownship.org
SUMMARY:Hall Rental - Payzont
DESCRIPTION:
URL:https://vassartownship.org/event/hall-rental-2/
CATEGORIES:General Event
END:VEVENT
END:VCALENDAR