BEGIN:VCALENDAR
VERSION:2.0
PRODID:-//Vassar Township - ECPv6.15.13//NONSGML v1.0//EN
CALSCALE:GREGORIAN
METHOD:PUBLISH
X-ORIGINAL-URL:https://vassartownship.org
X-WR-CALDESC:Events for Vassar Township
REFRESH-INTERVAL;VALUE=DURATION:PT1H
X-Robots-Tag:noindex
X-PUBLISHED-TTL:PT1H
BEGIN:VTIMEZONE
TZID:America/Detroit
BEGIN:DAYLIGHT
TZOFFSETFROM:-0500
TZOFFSETTO:-0400
TZNAME:EDT
DTSTART:20240310T070000
END:DAYLIGHT
BEGIN:STANDARD
TZOFFSETFROM:-0400
TZOFFSETTO:-0500
TZNAME:EST
DTSTART:20241103T060000
END:STANDARD
BEGIN:DAYLIGHT
TZOFFSETFROM:-0500
TZOFFSETTO:-0400
TZNAME:EDT
DTSTART:20250309T070000
END:DAYLIGHT
BEGIN:STANDARD
TZOFFSETFROM:-0400
TZOFFSETTO:-0500
TZNAME:EST
DTSTART:20251102T060000
END:STANDARD
BEGIN:DAYLIGHT
TZOFFSETFROM:-0500
TZOFFSETTO:-0400
TZNAME:EDT
DTSTART:20260308T070000
END:DAYLIGHT
BEGIN:STANDARD
TZOFFSETFROM:-0400
TZOFFSETTO:-0500
TZNAME:EST
DTSTART:20261101T060000
END:STANDARD
END:VTIMEZONE
BEGIN:VEVENT
DTSTART;TZID=America/Detroit:20250108T190000
DTEND;TZID=America/Detroit:20250108T200000
DTSTAMP:20260421T155328
CREATED:20230720T165431Z
LAST-MODIFIED:20250108T012728Z
UID:1334-1736362800-1736366400@vassartownship.org
SUMMARY:Parks and Rec Regular Meeting
DESCRIPTION:
URL:https://vassartownship.org/event/parks-and-rec-regular-meeting-18/
CATEGORIES:Parks & Recreation
END:VEVENT
BEGIN:VEVENT
DTSTART;TZID=America/Detroit:20250109T190000
DTEND;TZID=America/Detroit:20250109T200000
DTSTAMP:20260421T155328
CREATED:20230622T152426Z
LAST-MODIFIED:20231002T204747Z
UID:1200-1736449200-1736452800@vassartownship.org
SUMMARY:Planning Commission Regular Meeting
DESCRIPTION:
URL:https://vassartownship.org/event/planning-commission-regular-meeting-19/
CATEGORIES:Planning Commission
END:VEVENT
BEGIN:VEVENT
DTSTART;TZID=America/Detroit:20250109T190000
DTEND;TZID=America/Detroit:20250109T200000
DTSTAMP:20260421T155328
CREATED:20240617T165724Z
LAST-MODIFIED:20250109T014227Z
UID:2147-1736449200-1736452800@vassartownship.org
SUMMARY:Planning Commission regular meeting
DESCRIPTION:
URL:https://vassartownship.org/event/planning-commission-regular-meeting-31/
END:VEVENT
BEGIN:VEVENT
DTSTART;TZID=America/Detroit:20250114T190000
DTEND;TZID=America/Detroit:20250114T200000
DTSTAMP:20260421T155328
CREATED:20240718T174227Z
LAST-MODIFIED:20250114T022728Z
UID:2263-1736881200-1736884800@vassartownship.org
SUMMARY:Board of Trustees regular meeting
DESCRIPTION:
URL:https://vassartownship.org/event/board-of-trustees-regular-meeting-6/
END:VEVENT
BEGIN:VEVENT
DTSTART;VALUE=DATE:20250120
DTEND;VALUE=DATE:20250121
DTSTAMP:20260421T155328
CREATED:20250103T012725Z
LAST-MODIFIED:20250120T025725Z
UID:2657-1737331200-1737417599@vassartownship.org
SUMMARY:Hall Closed
DESCRIPTION:
URL:https://vassartownship.org/event/hall-closed-16/
END:VEVENT
BEGIN:VEVENT
DTSTART;TZID=America/Detroit:20250123T190000
DTEND;TZID=America/Detroit:20250123T200000
DTSTAMP:20260421T155328
CREATED:20240129T235728Z
LAST-MODIFIED:20240616T164246Z
UID:1794-1737658800-1737662400@vassartownship.org
SUMMARY:Planning Commission 2nd meeting
DESCRIPTION:
URL:https://vassartownship.org/event/planning-commission-12/
END:VEVENT
END:VCALENDAR