BEGIN:VCALENDAR
VERSION:2.0
PRODID:-//Vassar Township - ECPv6.15.13//NONSGML v1.0//EN
CALSCALE:GREGORIAN
METHOD:PUBLISH
X-WR-CALNAME:Vassar Township
X-ORIGINAL-URL:https://vassartownship.org
X-WR-CALDESC:Events for Vassar Township
REFRESH-INTERVAL;VALUE=DURATION:PT1H
X-Robots-Tag:noindex
X-PUBLISHED-TTL:PT1H
BEGIN:VTIMEZONE
TZID:America/Detroit
BEGIN:DAYLIGHT
TZOFFSETFROM:-0500
TZOFFSETTO:-0400
TZNAME:EDT
DTSTART:20230312T070000
END:DAYLIGHT
BEGIN:STANDARD
TZOFFSETFROM:-0400
TZOFFSETTO:-0500
TZNAME:EST
DTSTART:20231105T060000
END:STANDARD
BEGIN:DAYLIGHT
TZOFFSETFROM:-0500
TZOFFSETTO:-0400
TZNAME:EDT
DTSTART:20240310T070000
END:DAYLIGHT
BEGIN:STANDARD
TZOFFSETFROM:-0400
TZOFFSETTO:-0500
TZNAME:EST
DTSTART:20241103T060000
END:STANDARD
BEGIN:DAYLIGHT
TZOFFSETFROM:-0500
TZOFFSETTO:-0400
TZNAME:EDT
DTSTART:20250309T070000
END:DAYLIGHT
BEGIN:STANDARD
TZOFFSETFROM:-0400
TZOFFSETTO:-0500
TZNAME:EST
DTSTART:20251102T060000
END:STANDARD
END:VTIMEZONE
BEGIN:VEVENT
DTSTART;TZID=America/Detroit:20241204T190000
DTEND;TZID=America/Detroit:20241204T200000
DTSTAMP:20260421T171930
CREATED:20230720T165431Z
LAST-MODIFIED:20241205T001226Z
UID:1333-1733338800-1733342400@vassartownship.org
SUMMARY:Parks and Rec Regular Meeting
DESCRIPTION:
URL:https://vassartownship.org/event/parks-and-rec-regular-meeting-17/
CATEGORIES:Parks & Recreation
END:VEVENT
BEGIN:VEVENT
DTSTART;TZID=America/Detroit:20241209T163000
DTEND;TZID=America/Detroit:20241209T173000
DTSTAMP:20260421T171930
CREATED:20240116T235724Z
LAST-MODIFIED:20241209T002735Z
UID:1743-1733761800-1733765400@vassartownship.org
SUMMARY:Board of Review
DESCRIPTION:
URL:https://vassartownship.org/event/board-of-review-6/
END:VEVENT
BEGIN:VEVENT
DTSTART;TZID=America/Detroit:20241210T190000
DTEND;TZID=America/Detroit:20241210T200000
DTSTAMP:20260421T171930
CREATED:20240718T174227Z
LAST-MODIFIED:20241211T002736Z
UID:2262-1733857200-1733860800@vassartownship.org
SUMMARY:Board of Trustees regular meeting
DESCRIPTION:
URL:https://vassartownship.org/event/board-of-trustees-regular-meeting-5/
END:VEVENT
BEGIN:VEVENT
DTSTART;TZID=America/Detroit:20241212T190000
DTEND;TZID=America/Detroit:20241212T200000
DTSTAMP:20260421T171930
CREATED:20230622T152426Z
LAST-MODIFIED:20231002T204747Z
UID:1199-1734030000-1734033600@vassartownship.org
SUMMARY:Planning Commission Regular Meeting
DESCRIPTION:
URL:https://vassartownship.org/event/planning-commission-regular-meeting-18/
CATEGORIES:Planning Commission
END:VEVENT
BEGIN:VEVENT
DTSTART;TZID=America/Detroit:20241212T190000
DTEND;TZID=America/Detroit:20241212T200000
DTSTAMP:20260421T171930
CREATED:20240617T165724Z
LAST-MODIFIED:20241213T002757Z
UID:2146-1734030000-1734033600@vassartownship.org
SUMMARY:Planning Commission regular meeting
DESCRIPTION:
URL:https://vassartownship.org/event/planning-commission-regular-meeting-30/
END:VEVENT
BEGIN:VEVENT
DTSTART;TZID=America/Detroit:20241219T190000
DTEND;TZID=America/Detroit:20241219T200000
DTSTAMP:20260421T171930
CREATED:20240129T235728Z
LAST-MODIFIED:20241220T004229Z
UID:1793-1734634800-1734638400@vassartownship.org
SUMMARY:Planning Commission 2nd meeting
DESCRIPTION:
URL:https://vassartownship.org/event/planning-commission-11/
END:VEVENT
BEGIN:VEVENT
DTSTART;TZID=America/Detroit:20241226T190000
DTEND;TZID=America/Detroit:20241226T200000
DTSTAMP:20260421T171930
CREATED:20230308T160040Z
LAST-MODIFIED:20230615T144922Z
UID:324-1735239600-1735243200@vassartownship.org
SUMMARY:Planning Commission meeting
DESCRIPTION:
URL:https://vassartownship.org/event/planning-commission-meeting-25/
CATEGORIES:Planning Commission
END:VEVENT
END:VCALENDAR