BEGIN:VCALENDAR
VERSION:2.0
PRODID:-//Vassar Township - ECPv6.15.13//NONSGML v1.0//EN
CALSCALE:GREGORIAN
METHOD:PUBLISH
X-WR-CALNAME:Vassar Township
X-ORIGINAL-URL:https://vassartownship.org
X-WR-CALDESC:Events for Vassar Township
REFRESH-INTERVAL;VALUE=DURATION:PT1H
X-Robots-Tag:noindex
X-PUBLISHED-TTL:PT1H
BEGIN:VTIMEZONE
TZID:America/Detroit
BEGIN:DAYLIGHT
TZOFFSETFROM:-0500
TZOFFSETTO:-0400
TZNAME:EDT
DTSTART:20230312T070000
END:DAYLIGHT
BEGIN:STANDARD
TZOFFSETFROM:-0400
TZOFFSETTO:-0500
TZNAME:EST
DTSTART:20231105T060000
END:STANDARD
BEGIN:DAYLIGHT
TZOFFSETFROM:-0500
TZOFFSETTO:-0400
TZNAME:EDT
DTSTART:20240310T070000
END:DAYLIGHT
BEGIN:STANDARD
TZOFFSETFROM:-0400
TZOFFSETTO:-0500
TZNAME:EST
DTSTART:20241103T060000
END:STANDARD
BEGIN:DAYLIGHT
TZOFFSETFROM:-0500
TZOFFSETTO:-0400
TZNAME:EDT
DTSTART:20250309T070000
END:DAYLIGHT
BEGIN:STANDARD
TZOFFSETFROM:-0400
TZOFFSETTO:-0500
TZNAME:EST
DTSTART:20251102T060000
END:STANDARD
END:VTIMEZONE
BEGIN:VEVENT
DTSTART;TZID=America/Detroit:20241106T190000
DTEND;TZID=America/Detroit:20241106T200000
DTSTAMP:20260421T202505
CREATED:20230720T165431Z
LAST-MODIFIED:20241106T225927Z
UID:1332-1730919600-1730923200@vassartownship.org
SUMMARY:Parks and Rec Regular Meeting
DESCRIPTION:
URL:https://vassartownship.org/event/parks-and-rec-regular-meeting-16/
CATEGORIES:Parks & Recreation
END:VEVENT
BEGIN:VEVENT
DTSTART;TZID=America/Detroit:20241112T190000
DTEND;TZID=America/Detroit:20241112T200000
DTSTAMP:20260421T202505
CREATED:20240718T174227Z
LAST-MODIFIED:20241112T232806Z
UID:2261-1731438000-1731441600@vassartownship.org
SUMMARY:Board of Trustees regular meeting
DESCRIPTION:
URL:https://vassartownship.org/event/board-of-trustees-regular-meeting-4/
END:VEVENT
BEGIN:VEVENT
DTSTART;TZID=America/Detroit:20241114T190000
DTEND;TZID=America/Detroit:20241114T200000
DTSTAMP:20260421T202505
CREATED:20230622T152426Z
LAST-MODIFIED:20231002T204747Z
UID:1198-1731610800-1731614400@vassartownship.org
SUMMARY:Planning Commission Regular Meeting
DESCRIPTION:
URL:https://vassartownship.org/event/planning-commission-regular-meeting-17/
CATEGORIES:Planning Commission
END:VEVENT
BEGIN:VEVENT
DTSTART;TZID=America/Detroit:20241114T190000
DTEND;TZID=America/Detroit:20241114T200000
DTSTAMP:20260421T202505
CREATED:20240617T165724Z
LAST-MODIFIED:20241114T234231Z
UID:2145-1731610800-1731614400@vassartownship.org
SUMMARY:Planning Commission regular meeting
DESCRIPTION:
URL:https://vassartownship.org/event/planning-commission-regular-meeting-29/
END:VEVENT
BEGIN:VEVENT
DTSTART;TZID=America/Detroit:20241121T190000
DTEND;TZID=America/Detroit:20241121T200000
DTSTAMP:20260421T202505
CREATED:20240129T235728Z
LAST-MODIFIED:20241121T234225Z
UID:1792-1732215600-1732219200@vassartownship.org
SUMMARY:Planning Commission 2nd meeting
DESCRIPTION:
URL:https://vassartownship.org/event/planning-commission-10/
END:VEVENT
BEGIN:VEVENT
DTSTART;TZID=America/Detroit:20241128T190000
DTEND;TZID=America/Detroit:20241128T200000
DTSTAMP:20260421T202505
CREATED:20230308T160040Z
LAST-MODIFIED:20230615T144922Z
UID:323-1732820400-1732824000@vassartownship.org
SUMMARY:Planning Commission meeting
DESCRIPTION:
URL:https://vassartownship.org/event/planning-commission-meeting-24/
CATEGORIES:Planning Commission
END:VEVENT
END:VCALENDAR