BEGIN:VCALENDAR
VERSION:2.0
PRODID:-//Vassar Township - ECPv6.15.13//NONSGML v1.0//EN
CALSCALE:GREGORIAN
METHOD:PUBLISH
X-ORIGINAL-URL:https://vassartownship.org
X-WR-CALDESC:Events for Vassar Township
REFRESH-INTERVAL;VALUE=DURATION:PT1H
X-Robots-Tag:noindex
X-PUBLISHED-TTL:PT1H
BEGIN:VTIMEZONE
TZID:America/Detroit
BEGIN:DAYLIGHT
TZOFFSETFROM:-0500
TZOFFSETTO:-0400
TZNAME:EDT
DTSTART:20230312T070000
END:DAYLIGHT
BEGIN:STANDARD
TZOFFSETFROM:-0400
TZOFFSETTO:-0500
TZNAME:EST
DTSTART:20231105T060000
END:STANDARD
BEGIN:DAYLIGHT
TZOFFSETFROM:-0500
TZOFFSETTO:-0400
TZNAME:EDT
DTSTART:20240310T070000
END:DAYLIGHT
BEGIN:STANDARD
TZOFFSETFROM:-0400
TZOFFSETTO:-0500
TZNAME:EST
DTSTART:20241103T060000
END:STANDARD
BEGIN:DAYLIGHT
TZOFFSETFROM:-0500
TZOFFSETTO:-0400
TZNAME:EDT
DTSTART:20250309T070000
END:DAYLIGHT
BEGIN:STANDARD
TZOFFSETFROM:-0400
TZOFFSETTO:-0500
TZNAME:EST
DTSTART:20251102T060000
END:STANDARD
END:VTIMEZONE
BEGIN:VEVENT
DTSTART;TZID=America/Detroit:20241002T190000
DTEND;TZID=America/Detroit:20241002T200000
DTSTAMP:20260421T203524
CREATED:20230720T165431Z
LAST-MODIFIED:20241002T212741Z
UID:1331-1727895600-1727899200@vassartownship.org
SUMMARY:Parks and Rec Regular Meeting
DESCRIPTION:
URL:https://vassartownship.org/event/parks-and-rec-regular-meeting-15/
CATEGORIES:Parks & Recreation
END:VEVENT
BEGIN:VEVENT
DTSTART;TZID=America/Detroit:20241003T190000
DTEND;TZID=America/Detroit:20241003T200000
DTSTAMP:20260421T203524
CREATED:20240926T205724Z
LAST-MODIFIED:20241003T212728Z
UID:2460-1727982000-1727985600@vassartownship.org
SUMMARY:PC Special Meeting
DESCRIPTION:
URL:https://vassartownship.org/event/pc-special-meeting/
END:VEVENT
BEGIN:VEVENT
DTSTART;TZID=America/Detroit:20241008T190000
DTEND;TZID=America/Detroit:20241008T200000
DTSTAMP:20260421T203524
CREATED:20240718T174226Z
LAST-MODIFIED:20241008T212733Z
UID:2260-1728414000-1728417600@vassartownship.org
SUMMARY:Board of Trustees regular meeting
DESCRIPTION:
URL:https://vassartownship.org/event/board-of-trustees-regular-meeting-3/
END:VEVENT
BEGIN:VEVENT
DTSTART;TZID=America/Detroit:20241009T190000
DTEND;TZID=America/Detroit:20241009T200000
DTSTAMP:20260421T203524
CREATED:20231017T203643Z
LAST-MODIFIED:20241009T214227Z
UID:1550-1728500400-1728504000@vassartownship.org
SUMMARY:ZBA meeting
DESCRIPTION:
URL:https://vassartownship.org/event/zba-meeting-2/
END:VEVENT
BEGIN:VEVENT
DTSTART;TZID=America/Detroit:20241010T190000
DTEND;TZID=America/Detroit:20241010T200000
DTSTAMP:20260421T203524
CREATED:20230622T152426Z
LAST-MODIFIED:20231002T204747Z
UID:1197-1728586800-1728590400@vassartownship.org
SUMMARY:Planning Commission Regular Meeting
DESCRIPTION:
URL:https://vassartownship.org/event/planning-commission-regular-meeting-16/
CATEGORIES:Planning Commission
END:VEVENT
BEGIN:VEVENT
DTSTART;TZID=America/Detroit:20241010T190000
DTEND;TZID=America/Detroit:20241010T200000
DTSTAMP:20260421T203524
CREATED:20240617T165724Z
LAST-MODIFIED:20241010T214226Z
UID:2144-1728586800-1728590400@vassartownship.org
SUMMARY:Planning Commission regular meeting
DESCRIPTION:
URL:https://vassartownship.org/event/planning-commission-regular-meeting-28/
END:VEVENT
BEGIN:VEVENT
DTSTART;TZID=America/Detroit:20241012T140000
DTEND;TZID=America/Detroit:20241012T170000
DTSTAMP:20260421T203524
CREATED:20241008T212732Z
LAST-MODIFIED:20241011T214235Z
UID:2476-1728741600-1728752400@vassartownship.org
SUMMARY:Park Pavilion Reserved
DESCRIPTION:
URL:https://vassartownship.org/event/park-pavilion-reserved-5/
END:VEVENT
BEGIN:VEVENT
DTSTART;TZID=America/Detroit:20241024T190000
DTEND;TZID=America/Detroit:20241024T200000
DTSTAMP:20260421T203524
CREATED:20230308T160040Z
LAST-MODIFIED:20230615T144922Z
UID:322-1729796400-1729800000@vassartownship.org
SUMMARY:Planning Commission meeting
DESCRIPTION:
URL:https://vassartownship.org/event/planning-commission-meeting-23/
CATEGORIES:Planning Commission
END:VEVENT
BEGIN:VEVENT
DTSTART;TZID=America/Detroit:20241024T190000
DTEND;TZID=America/Detroit:20241024T200000
DTSTAMP:20260421T203524
CREATED:20240129T235728Z
LAST-MODIFIED:20241024T221321Z
UID:1791-1729796400-1729800000@vassartownship.org
SUMMARY:Planning Commission 2nd meeting
DESCRIPTION:
URL:https://vassartownship.org/event/planning-commission-9/
END:VEVENT
END:VCALENDAR