BEGIN:VCALENDAR
VERSION:2.0
PRODID:-//Vassar Township - ECPv6.15.13//NONSGML v1.0//EN
CALSCALE:GREGORIAN
METHOD:PUBLISH
X-ORIGINAL-URL:https://vassartownship.org
X-WR-CALDESC:Events for Vassar Township
REFRESH-INTERVAL;VALUE=DURATION:PT1H
X-Robots-Tag:noindex
X-PUBLISHED-TTL:PT1H
BEGIN:VTIMEZONE
TZID:America/Detroit
BEGIN:DAYLIGHT
TZOFFSETFROM:-0500
TZOFFSETTO:-0400
TZNAME:EDT
DTSTART:20230312T070000
END:DAYLIGHT
BEGIN:STANDARD
TZOFFSETFROM:-0400
TZOFFSETTO:-0500
TZNAME:EST
DTSTART:20231105T060000
END:STANDARD
BEGIN:DAYLIGHT
TZOFFSETFROM:-0500
TZOFFSETTO:-0400
TZNAME:EDT
DTSTART:20240310T070000
END:DAYLIGHT
BEGIN:STANDARD
TZOFFSETFROM:-0400
TZOFFSETTO:-0500
TZNAME:EST
DTSTART:20241103T060000
END:STANDARD
BEGIN:DAYLIGHT
TZOFFSETFROM:-0500
TZOFFSETTO:-0400
TZNAME:EDT
DTSTART:20250309T070000
END:DAYLIGHT
BEGIN:STANDARD
TZOFFSETFROM:-0400
TZOFFSETTO:-0500
TZNAME:EST
DTSTART:20251102T060000
END:STANDARD
END:VTIMEZONE
BEGIN:VEVENT
DTSTART;TZID=America/Detroit:20240501T190000
DTEND;TZID=America/Detroit:20240501T200000
DTSTAMP:20260423T232120
CREATED:20230720T165431Z
LAST-MODIFIED:20240501T034223Z
UID:1326-1714590000-1714593600@vassartownship.org
SUMMARY:Parks and Rec Regular Meeting
DESCRIPTION:
URL:https://vassartownship.org/event/parks-and-rec-regular-meeting-10/
CATEGORIES:Parks & Recreation
END:VEVENT
BEGIN:VEVENT
DTSTART;TZID=America/Detroit:20240508T190000
DTEND;TZID=America/Detroit:20240508T200000
DTSTAMP:20260423T232120
CREATED:20231017T203643Z
LAST-MODIFIED:20240508T035727Z
UID:1549-1715194800-1715198400@vassartownship.org
SUMMARY:ZBA meeting
DESCRIPTION:
URL:https://vassartownship.org/event/zba-meeting/
END:VEVENT
BEGIN:VEVENT
DTSTART;TZID=America/Detroit:20240509T190000
DTEND;TZID=America/Detroit:20240509T200000
DTSTAMP:20260423T232120
CREATED:20230622T152426Z
LAST-MODIFIED:20240509T035737Z
UID:1192-1715281200-1715284800@vassartownship.org
SUMMARY:Planning Commission Regular Meeting
DESCRIPTION:
URL:https://vassartownship.org/event/planning-commission-regular-meeting-11/
CATEGORIES:Planning Commission
END:VEVENT
BEGIN:VEVENT
DTSTART;TZID=America/Detroit:20240514T190000
DTEND;TZID=America/Detroit:20240514T200000
DTSTAMP:20260423T232120
CREATED:20230616T145732Z
LAST-MODIFIED:20240514T041236Z
UID:1148-1715713200-1715716800@vassartownship.org
SUMMARY:Board of Trustees meeting
DESCRIPTION:
URL:https://vassartownship.org/event/board-of-trustees-meeting-23/
CATEGORIES:Board of Trustees
END:VEVENT
BEGIN:VEVENT
DTSTART;TZID=America/Detroit:20240523T190000
DTEND;TZID=America/Detroit:20240523T200000
DTSTAMP:20260423T232120
CREATED:20230308T160040Z
LAST-MODIFIED:20231226T234227Z
UID:317-1716490800-1716494400@vassartownship.org
SUMMARY:Planning Commission meeting
DESCRIPTION:
URL:https://vassartownship.org/event/planning-commission-meeting-18/
CATEGORIES:Planning Commission
END:VEVENT
BEGIN:VEVENT
DTSTART;TZID=America/Detroit:20240523T190000
DTEND;TZID=America/Detroit:20240523T200000
DTSTAMP:20260423T232120
CREATED:20240129T235728Z
LAST-MODIFIED:20240523T041222Z
UID:1786-1716490800-1716494400@vassartownship.org
SUMMARY:Planning Commission 2nd meeting
DESCRIPTION:
URL:https://vassartownship.org/event/planning-commission-4/
END:VEVENT
BEGIN:VEVENT
DTSTART;VALUE=DATE:20240527
DTEND;VALUE=DATE:20240528
DTSTAMP:20260423T232120
CREATED:20240524T041223Z
LAST-MODIFIED:20240527T041227Z
UID:2085-1716768000-1716854399@vassartownship.org
SUMMARY:OFFICES CLOSED
DESCRIPTION:
URL:https://vassartownship.org/event/offices-closed/
END:VEVENT
BEGIN:VEVENT
DTSTART;TZID=America/Detroit:20240528T170000
DTEND;TZID=America/Detroit:20240528T180000
DTSTAMP:20260423T232120
CREATED:20240524T041223Z
LAST-MODIFIED:20240528T041224Z
UID:2086-1716915600-1716919200@vassartownship.org
SUMMARY:Board of Trustees
DESCRIPTION:
URL:https://vassartownship.org/event/board-of-trustees/
END:VEVENT
END:VCALENDAR