BEGIN:VCALENDAR
VERSION:2.0
PRODID:-//Vassar Township - ECPv6.15.13//NONSGML v1.0//EN
CALSCALE:GREGORIAN
METHOD:PUBLISH
X-ORIGINAL-URL:https://vassartownship.org
X-WR-CALDESC:Events for Vassar Township
REFRESH-INTERVAL;VALUE=DURATION:PT1H
X-Robots-Tag:noindex
X-PUBLISHED-TTL:PT1H
BEGIN:VTIMEZONE
TZID:America/Detroit
BEGIN:DAYLIGHT
TZOFFSETFROM:-0500
TZOFFSETTO:-0400
TZNAME:EDT
DTSTART:20230312T070000
END:DAYLIGHT
BEGIN:STANDARD
TZOFFSETFROM:-0400
TZOFFSETTO:-0500
TZNAME:EST
DTSTART:20231105T060000
END:STANDARD
BEGIN:DAYLIGHT
TZOFFSETFROM:-0500
TZOFFSETTO:-0400
TZNAME:EDT
DTSTART:20240310T070000
END:DAYLIGHT
BEGIN:STANDARD
TZOFFSETFROM:-0400
TZOFFSETTO:-0500
TZNAME:EST
DTSTART:20241103T060000
END:STANDARD
BEGIN:DAYLIGHT
TZOFFSETFROM:-0500
TZOFFSETTO:-0400
TZNAME:EDT
DTSTART:20250309T070000
END:DAYLIGHT
BEGIN:STANDARD
TZOFFSETFROM:-0400
TZOFFSETTO:-0500
TZNAME:EST
DTSTART:20251102T060000
END:STANDARD
END:VTIMEZONE
BEGIN:VEVENT
DTSTART;TZID=America/Detroit:20240207T190000
DTEND;TZID=America/Detroit:20240207T200000
DTSTAMP:20260424T040348
CREATED:20230720T165431Z
LAST-MODIFIED:20240208T002732Z
UID:1323-1707332400-1707336000@vassartownship.org
SUMMARY:Parks and Rec Regular Meeting
DESCRIPTION:
URL:https://vassartownship.org/event/parks-and-rec-regular-meeting-7/
CATEGORIES:Parks & Recreation
END:VEVENT
BEGIN:VEVENT
DTSTART;TZID=America/Detroit:20240208T190000
DTEND;TZID=America/Detroit:20240208T200000
DTSTAMP:20260424T040348
CREATED:20230622T152425Z
LAST-MODIFIED:20240209T002729Z
UID:1189-1707418800-1707422400@vassartownship.org
SUMMARY:Planning Commission Regular Meeting
DESCRIPTION:
URL:https://vassartownship.org/event/planning-commission-regular-meeting-8/
CATEGORIES:Planning Commission
END:VEVENT
BEGIN:VEVENT
DTSTART;TZID=America/Detroit:20240213T190000
DTEND;TZID=America/Detroit:20240213T200000
DTSTAMP:20260424T040348
CREATED:20230616T145732Z
LAST-MODIFIED:20240214T002751Z
UID:1145-1707850800-1707854400@vassartownship.org
SUMMARY:Board of Trustees meeting
DESCRIPTION:
URL:https://vassartownship.org/event/board-of-trustees-meeting-20/
CATEGORIES:Board of Trustees
END:VEVENT
BEGIN:VEVENT
DTSTART;VALUE=DATE:20240219
DTEND;VALUE=DATE:20240220
DTSTAMP:20260424T040348
CREATED:20240129T235727Z
LAST-MODIFIED:20240219T004225Z
UID:1782-1708300800-1708387199@vassartownship.org
SUMMARY:Office Closed
DESCRIPTION:
URL:https://vassartownship.org/event/office-closed/
END:VEVENT
BEGIN:VEVENT
DTSTART;TZID=America/Detroit:20240222T190000
DTEND;TZID=America/Detroit:20240222T200000
DTSTAMP:20260424T040348
CREATED:20230308T160040Z
LAST-MODIFIED:20231226T234226Z
UID:314-1708628400-1708632000@vassartownship.org
SUMMARY:Planning Commission meeting
DESCRIPTION:
URL:https://vassartownship.org/event/planning-commission-meeting-15/
CATEGORIES:Planning Commission
END:VEVENT
BEGIN:VEVENT
DTSTART;TZID=America/Detroit:20240222T190000
DTEND;TZID=America/Detroit:20240222T200000
DTSTAMP:20260424T040348
CREATED:20240129T235727Z
LAST-MODIFIED:20240222T012727Z
UID:1783-1708628400-1708632000@vassartownship.org
SUMMARY:Planning Commission 2nd meeting
DESCRIPTION:
URL:https://vassartownship.org/event/planning-commission/
END:VEVENT
END:VCALENDAR