BEGIN:VCALENDAR
VERSION:2.0
PRODID:-//Vassar Township - ECPv6.15.13//NONSGML v1.0//EN
CALSCALE:GREGORIAN
METHOD:PUBLISH
X-WR-CALNAME:Vassar Township
X-ORIGINAL-URL:https://vassartownship.org
X-WR-CALDESC:Events for Vassar Township
REFRESH-INTERVAL;VALUE=DURATION:PT1H
X-Robots-Tag:noindex
X-PUBLISHED-TTL:PT1H
BEGIN:VTIMEZONE
TZID:America/Detroit
BEGIN:DAYLIGHT
TZOFFSETFROM:-0500
TZOFFSETTO:-0400
TZNAME:EDT
DTSTART:20220313T070000
END:DAYLIGHT
BEGIN:STANDARD
TZOFFSETFROM:-0400
TZOFFSETTO:-0500
TZNAME:EST
DTSTART:20221106T060000
END:STANDARD
BEGIN:DAYLIGHT
TZOFFSETFROM:-0500
TZOFFSETTO:-0400
TZNAME:EDT
DTSTART:20230312T070000
END:DAYLIGHT
BEGIN:STANDARD
TZOFFSETFROM:-0400
TZOFFSETTO:-0500
TZNAME:EST
DTSTART:20231105T060000
END:STANDARD
BEGIN:DAYLIGHT
TZOFFSETFROM:-0500
TZOFFSETTO:-0400
TZNAME:EDT
DTSTART:20240310T070000
END:DAYLIGHT
BEGIN:STANDARD
TZOFFSETFROM:-0400
TZOFFSETTO:-0500
TZNAME:EST
DTSTART:20241103T060000
END:STANDARD
END:VTIMEZONE
BEGIN:VEVENT
DTSTART;TZID=America/Detroit:20231206T190000
DTEND;TZID=America/Detroit:20231206T200000
DTSTAMP:20260424T070434
CREATED:20230720T165430Z
LAST-MODIFIED:20231206T225730Z
UID:1321-1701889200-1701892800@vassartownship.org
SUMMARY:Parks and Rec Regular Meeting
DESCRIPTION:
URL:https://vassartownship.org/event/parks-and-rec-regular-meeting-5/
CATEGORIES:Parks & Recreation
END:VEVENT
BEGIN:VEVENT
DTSTART;TZID=America/Detroit:20231211T163000
DTEND;TZID=America/Detroit:20231211T173000
DTSTAMP:20260424T070434
CREATED:20230308T160040Z
LAST-MODIFIED:20231210T225737Z
UID:307-1702312200-1702315800@vassartownship.org
SUMMARY:Board of Review
DESCRIPTION:
URL:https://vassartownship.org/event/board-of-review-2/
CATEGORIES:Board of Review
END:VEVENT
BEGIN:VEVENT
DTSTART;TZID=America/Detroit:20231212T190000
DTEND;TZID=America/Detroit:20231212T200000
DTSTAMP:20260424T070434
CREATED:20230616T145732Z
LAST-MODIFIED:20231212T225746Z
UID:1143-1702407600-1702411200@vassartownship.org
SUMMARY:Board of Trustees meeting
DESCRIPTION:
URL:https://vassartownship.org/event/board-of-trustees-meeting-18/
CATEGORIES:Board of Trustees
END:VEVENT
BEGIN:VEVENT
DTSTART;TZID=America/Detroit:20231214T190000
DTEND;TZID=America/Detroit:20231214T200000
DTSTAMP:20260424T070434
CREATED:20230622T152425Z
LAST-MODIFIED:20231214T225730Z
UID:1187-1702580400-1702584000@vassartownship.org
SUMMARY:Planning Commission Regular Meeting
DESCRIPTION:
URL:https://vassartownship.org/event/planning-commission-regular-meeting-6/
CATEGORIES:Planning Commission
END:VEVENT
BEGIN:VEVENT
DTSTART;TZID=America/Detroit:20231221T183000
DTEND;TZID=America/Detroit:20231221T193000
DTSTAMP:20260424T070434
CREATED:20230308T160040Z
LAST-MODIFIED:20231221T231239Z
UID:311-1703183400-1703187000@vassartownship.org
SUMMARY:Planning Commission meeting
DESCRIPTION:
URL:https://vassartownship.org/event/planning-commission-meeting-13/
CATEGORIES:Planning Commission
END:VEVENT
BEGIN:VEVENT
DTSTART;VALUE=DATE:20231222
DTEND;VALUE=DATE:20231223
DTSTAMP:20260424T070434
CREATED:20230308T160040Z
LAST-MODIFIED:20231128T222724Z
UID:308-1703203200-1703289599@vassartownship.org
SUMMARY:HALL CLOSED
DESCRIPTION:
URL:https://vassartownship.org/event/hall-closed-9/
CATEGORIES:Hours
END:VEVENT
BEGIN:VEVENT
DTSTART;VALUE=DATE:20231225
DTEND;VALUE=DATE:20231226
DTSTAMP:20260424T070434
CREATED:20230308T160040Z
LAST-MODIFIED:20231225T234243Z
UID:309-1703462400-1703548799@vassartownship.org
SUMMARY:HALL CLOSED
DESCRIPTION:
URL:https://vassartownship.org/event/hall-closed-10/
CATEGORIES:Hours
END:VEVENT
BEGIN:VEVENT
DTSTART;VALUE=DATE:20231226
DTEND;VALUE=DATE:20231227
DTSTAMP:20260424T070434
CREATED:20231129T224237Z
LAST-MODIFIED:20231226T234226Z
UID:1638-1703548800-1703635199@vassartownship.org
SUMMARY:HALL CLOSED
DESCRIPTION:
URL:https://vassartownship.org/event/hall-closed-14/
END:VEVENT
BEGIN:VEVENT
DTSTART;VALUE=DATE:20231229
DTEND;VALUE=DATE:20231230
DTSTAMP:20260424T070434
CREATED:20230308T160040Z
LAST-MODIFIED:20231128T222724Z
UID:310-1703808000-1703894399@vassartownship.org
SUMMARY:HALL CLOSED
DESCRIPTION:
URL:https://vassartownship.org/event/hall-closed-11/
CATEGORIES:Hours
END:VEVENT
END:VCALENDAR