BEGIN:VCALENDAR
VERSION:2.0
PRODID:-//Vassar Township - ECPv6.15.13//NONSGML v1.0//EN
CALSCALE:GREGORIAN
METHOD:PUBLISH
X-ORIGINAL-URL:https://vassartownship.org
X-WR-CALDESC:Events for Vassar Township
REFRESH-INTERVAL;VALUE=DURATION:PT1H
X-Robots-Tag:noindex
X-PUBLISHED-TTL:PT1H
BEGIN:VTIMEZONE
TZID:America/Detroit
BEGIN:DAYLIGHT
TZOFFSETFROM:-0500
TZOFFSETTO:-0400
TZNAME:EDT
DTSTART:20220313T070000
END:DAYLIGHT
BEGIN:STANDARD
TZOFFSETFROM:-0400
TZOFFSETTO:-0500
TZNAME:EST
DTSTART:20221106T060000
END:STANDARD
BEGIN:DAYLIGHT
TZOFFSETFROM:-0500
TZOFFSETTO:-0400
TZNAME:EDT
DTSTART:20230312T070000
END:DAYLIGHT
BEGIN:STANDARD
TZOFFSETFROM:-0400
TZOFFSETTO:-0500
TZNAME:EST
DTSTART:20231105T060000
END:STANDARD
BEGIN:DAYLIGHT
TZOFFSETFROM:-0500
TZOFFSETTO:-0400
TZNAME:EDT
DTSTART:20240310T070000
END:DAYLIGHT
BEGIN:STANDARD
TZOFFSETFROM:-0400
TZOFFSETTO:-0500
TZNAME:EST
DTSTART:20241103T060000
END:STANDARD
END:VTIMEZONE
BEGIN:VEVENT
DTSTART;VALUE=DATE:20230904
DTEND;VALUE=DATE:20230905
DTSTAMP:20260424T115026
CREATED:20230308T160039Z
LAST-MODIFIED:20230904T193109Z
UID:301-1693785600-1693871999@vassartownship.org
SUMMARY:HALL CLOSED
DESCRIPTION:
URL:https://vassartownship.org/event/hall-closed-5/
CATEGORIES:Hours
END:VEVENT
BEGIN:VEVENT
DTSTART;TZID=America/Detroit:20230906T190000
DTEND;TZID=America/Detroit:20230906T200000
DTSTAMP:20260424T115026
CREATED:20230720T165430Z
LAST-MODIFIED:20231002T204626Z
UID:1316-1694026800-1694030400@vassartownship.org
SUMMARY:Parks and Rec Regular Meeting
DESCRIPTION:
URL:https://vassartownship.org/event/parks-and-rec-regular-meeting-2/
CATEGORIES:Parks & Recreation
END:VEVENT
BEGIN:VEVENT
DTSTART;TZID=America/Detroit:20230912T190000
DTEND;TZID=America/Detroit:20230912T200000
DTSTAMP:20260424T115026
CREATED:20230616T145731Z
LAST-MODIFIED:20231002T204820Z
UID:1140-1694545200-1694548800@vassartownship.org
SUMMARY:Board of Trustees meeting
DESCRIPTION:
URL:https://vassartownship.org/event/board-of-trustees-meeting-15/
CATEGORIES:Board of Trustees
END:VEVENT
BEGIN:VEVENT
DTSTART;TZID=America/Detroit:20230914T190000
DTEND;TZID=America/Detroit:20230914T200000
DTSTAMP:20260424T115026
CREATED:20230622T152425Z
LAST-MODIFIED:20231002T204748Z
UID:1184-1694718000-1694721600@vassartownship.org
SUMMARY:Planning Commission Regular Meeting
DESCRIPTION:
URL:https://vassartownship.org/event/planning-commission-regular-meeting-3/
CATEGORIES:Planning Commission
END:VEVENT
BEGIN:VEVENT
DTSTART;TZID=America/Detroit:20230928T190000
DTEND;TZID=America/Detroit:20230928T200000
DTSTAMP:20260424T115026
CREATED:20230308T160039Z
LAST-MODIFIED:20230928T200720Z
UID:302-1695927600-1695931200@vassartownship.org
SUMMARY:Planning Commission meeting
DESCRIPTION:
URL:https://vassartownship.org/event/planning-commission-meeting-11/
CATEGORIES:Planning Commission
END:VEVENT
END:VCALENDAR