BEGIN:VCALENDAR
VERSION:2.0
PRODID:-//Vassar Township - ECPv6.15.13//NONSGML v1.0//EN
CALSCALE:GREGORIAN
METHOD:PUBLISH
X-ORIGINAL-URL:https://vassartownship.org
X-WR-CALDESC:Events for Vassar Township
REFRESH-INTERVAL;VALUE=DURATION:PT1H
X-Robots-Tag:noindex
X-PUBLISHED-TTL:PT1H
BEGIN:VTIMEZONE
TZID:America/Detroit
BEGIN:DAYLIGHT
TZOFFSETFROM:-0500
TZOFFSETTO:-0400
TZNAME:EDT
DTSTART:20240310T070000
END:DAYLIGHT
BEGIN:STANDARD
TZOFFSETFROM:-0400
TZOFFSETTO:-0500
TZNAME:EST
DTSTART:20241103T060000
END:STANDARD
BEGIN:DAYLIGHT
TZOFFSETFROM:-0500
TZOFFSETTO:-0400
TZNAME:EDT
DTSTART:20250309T070000
END:DAYLIGHT
BEGIN:STANDARD
TZOFFSETFROM:-0400
TZOFFSETTO:-0500
TZNAME:EST
DTSTART:20251102T060000
END:STANDARD
BEGIN:DAYLIGHT
TZOFFSETFROM:-0500
TZOFFSETTO:-0400
TZNAME:EDT
DTSTART:20260308T070000
END:DAYLIGHT
BEGIN:STANDARD
TZOFFSETFROM:-0400
TZOFFSETTO:-0500
TZNAME:EST
DTSTART:20261101T060000
END:STANDARD
END:VTIMEZONE
BEGIN:VEVENT
DTSTART;TZID=America/Detroit:20250914T090000
DTEND;TZID=America/Detroit:20250914T230000
DTSTAMP:20260420T211330
CREATED:20250626T193209Z
LAST-MODIFIED:20250825T193851Z
UID:3010-1757840400-1757890800@vassartownship.org
SUMMARY:Hall Rental - Porritt
DESCRIPTION:
URL:https://vassartownship.org/event/hall-rental/
CATEGORIES:General Event
END:VEVENT
BEGIN:VEVENT
DTSTART;TZID=America/Detroit:20250914T130000
DTEND;TZID=America/Detroit:20250914T170000
DTSTAMP:20260420T211330
CREATED:20250826T133553Z
LAST-MODIFIED:20250826T133553Z
UID:3179-1757854800-1757869200@vassartownship.org
SUMMARY:Pavilion Rental - Burrows
DESCRIPTION:
URL:https://vassartownship.org/event/pavilion-rental-burrows/
CATEGORIES:General Event
END:VEVENT
END:VCALENDAR