BEGIN:VCALENDAR
VERSION:2.0
PRODID:-//Vassar Township - ECPv6.15.13//NONSGML v1.0//EN
CALSCALE:GREGORIAN
METHOD:PUBLISH
X-WR-CALNAME:Vassar Township
X-ORIGINAL-URL:https://vassartownship.org
X-WR-CALDESC:Events for Vassar Township
REFRESH-INTERVAL;VALUE=DURATION:PT1H
X-Robots-Tag:noindex
X-PUBLISHED-TTL:PT1H
BEGIN:VTIMEZONE
TZID:America/Detroit
BEGIN:DAYLIGHT
TZOFFSETFROM:-0500
TZOFFSETTO:-0400
TZNAME:EDT
DTSTART:20240310T070000
END:DAYLIGHT
BEGIN:STANDARD
TZOFFSETFROM:-0400
TZOFFSETTO:-0500
TZNAME:EST
DTSTART:20241103T060000
END:STANDARD
BEGIN:DAYLIGHT
TZOFFSETFROM:-0500
TZOFFSETTO:-0400
TZNAME:EDT
DTSTART:20250309T070000
END:DAYLIGHT
BEGIN:STANDARD
TZOFFSETFROM:-0400
TZOFFSETTO:-0500
TZNAME:EST
DTSTART:20251102T060000
END:STANDARD
BEGIN:DAYLIGHT
TZOFFSETFROM:-0500
TZOFFSETTO:-0400
TZNAME:EDT
DTSTART:20260308T070000
END:DAYLIGHT
BEGIN:STANDARD
TZOFFSETFROM:-0400
TZOFFSETTO:-0500
TZNAME:EST
DTSTART:20261101T060000
END:STANDARD
END:VTIMEZONE
BEGIN:VEVENT
DTSTART;TZID=America/Detroit:20250824T090000
DTEND;TZID=America/Detroit:20250824T230000
DTSTAMP:20260420T223554
CREATED:20250807T180248Z
LAST-MODIFIED:20250812T194314Z
UID:3149-1756026000-1756076400@vassartownship.org
SUMMARY:Hall Rental - Ellison
DESCRIPTION:
URL:https://vassartownship.org/event/hall-rental-pending-bender/
CATEGORIES:General Event
END:VEVENT
BEGIN:VEVENT
DTSTART;TZID=America/Detroit:20250824T140000
DTEND;TZID=America/Detroit:20250824T180000
DTSTAMP:20260420T223554
CREATED:20250807T180219Z
LAST-MODIFIED:20250807T180219Z
UID:3147-1756044000-1756058400@vassartownship.org
SUMMARY:Pavilion Rental - Radatz
DESCRIPTION:
URL:https://vassartownship.org/event/pavilion-rental-radatz/
CATEGORIES:General Event
END:VEVENT
END:VCALENDAR