BEGIN:VCALENDAR
VERSION:2.0
PRODID:-//Vassar Township - ECPv6.15.13//NONSGML v1.0//EN
CALSCALE:GREGORIAN
METHOD:PUBLISH
X-ORIGINAL-URL:https://vassartownship.org
X-WR-CALDESC:Events for Vassar Township
REFRESH-INTERVAL;VALUE=DURATION:PT1H
X-Robots-Tag:noindex
X-PUBLISHED-TTL:PT1H
BEGIN:VTIMEZONE
TZID:America/Detroit
BEGIN:DAYLIGHT
TZOFFSETFROM:-0500
TZOFFSETTO:-0400
TZNAME:EDT
DTSTART:20250309T070000
END:DAYLIGHT
BEGIN:STANDARD
TZOFFSETFROM:-0400
TZOFFSETTO:-0500
TZNAME:EST
DTSTART:20251102T060000
END:STANDARD
BEGIN:DAYLIGHT
TZOFFSETFROM:-0500
TZOFFSETTO:-0400
TZNAME:EDT
DTSTART:20260308T070000
END:DAYLIGHT
BEGIN:STANDARD
TZOFFSETFROM:-0400
TZOFFSETTO:-0500
TZNAME:EST
DTSTART:20261101T060000
END:STANDARD
BEGIN:DAYLIGHT
TZOFFSETFROM:-0500
TZOFFSETTO:-0400
TZNAME:EDT
DTSTART:20270314T070000
END:DAYLIGHT
BEGIN:STANDARD
TZOFFSETFROM:-0400
TZOFFSETTO:-0500
TZNAME:EST
DTSTART:20271107T060000
END:STANDARD
END:VTIMEZONE
BEGIN:VEVENT
DTSTART;VALUE=DATE:20260806
DTEND;VALUE=DATE:20260807
DTSTAMP:20260420T141831
CREATED:20251030T163112Z
LAST-MODIFIED:20251030T163112Z
UID:3443-1785974400-1786060799@vassartownship.org
SUMMARY:Trash Pick Up
DESCRIPTION:
URL:https://vassartownship.org/event/trash-pick-up-27/
CATEGORIES:General Event
END:VEVENT
BEGIN:VEVENT
DTSTART;VALUE=DATE:20260813
DTEND;VALUE=DATE:20260814
DTSTAMP:20260420T141831
CREATED:20251030T162344Z
LAST-MODIFIED:20251030T162344Z
UID:3391-1786579200-1786665599@vassartownship.org
SUMMARY:Trash and Recycling Pick Up
DESCRIPTION:
URL:https://vassartownship.org/event/trash-and-recycling-pick-up-30/
CATEGORIES:General Event
END:VEVENT
BEGIN:VEVENT
DTSTART;VALUE=DATE:20260820
DTEND;VALUE=DATE:20260821
DTSTAMP:20260420T141831
CREATED:20251030T163126Z
LAST-MODIFIED:20251030T163126Z
UID:3445-1787184000-1787270399@vassartownship.org
SUMMARY:Trash Pick Up
DESCRIPTION:
URL:https://vassartownship.org/event/trash-pick-up-28/
CATEGORIES:General Event
END:VEVENT
BEGIN:VEVENT
DTSTART;TZID=America/Detroit:20260822T170000
DTEND;TZID=America/Detroit:20260822T210000
DTSTAMP:20260420T141831
CREATED:20260205T122340Z
LAST-MODIFIED:20260205T122340Z
UID:3608-1787418000-1787432400@vassartownship.org
SUMMARY:Adult Craft Night - VT Hall
DESCRIPTION:
URL:https://vassartownship.org/event/adult-craft-night-vt-hall/
CATEGORIES:General Event
END:VEVENT
BEGIN:VEVENT
DTSTART;VALUE=DATE:20260827
DTEND;VALUE=DATE:20260828
DTSTAMP:20260420T141831
CREATED:20251030T162401Z
LAST-MODIFIED:20251030T162401Z
UID:3393-1787788800-1787875199@vassartownship.org
SUMMARY:Trash and Recycling Pick Up
DESCRIPTION:
URL:https://vassartownship.org/event/trash-and-recycling-pick-up-31/
CATEGORIES:General Event
END:VEVENT
END:VCALENDAR