BEGIN:VCALENDAR
VERSION:2.0
PRODID:-//Vassar Township - ECPv6.15.13//NONSGML v1.0//EN
CALSCALE:GREGORIAN
METHOD:PUBLISH
X-ORIGINAL-URL:https://vassartownship.org
X-WR-CALDESC:Events for Vassar Township
REFRESH-INTERVAL;VALUE=DURATION:PT1H
X-Robots-Tag:noindex
X-PUBLISHED-TTL:PT1H
BEGIN:VTIMEZONE
TZID:America/Detroit
BEGIN:DAYLIGHT
TZOFFSETFROM:-0500
TZOFFSETTO:-0400
TZNAME:EDT
DTSTART:20250309T070000
END:DAYLIGHT
BEGIN:STANDARD
TZOFFSETFROM:-0400
TZOFFSETTO:-0500
TZNAME:EST
DTSTART:20251102T060000
END:STANDARD
BEGIN:DAYLIGHT
TZOFFSETFROM:-0500
TZOFFSETTO:-0400
TZNAME:EDT
DTSTART:20260308T070000
END:DAYLIGHT
BEGIN:STANDARD
TZOFFSETFROM:-0400
TZOFFSETTO:-0500
TZNAME:EST
DTSTART:20261101T060000
END:STANDARD
BEGIN:DAYLIGHT
TZOFFSETFROM:-0500
TZOFFSETTO:-0400
TZNAME:EDT
DTSTART:20270314T070000
END:DAYLIGHT
BEGIN:STANDARD
TZOFFSETFROM:-0400
TZOFFSETTO:-0500
TZNAME:EST
DTSTART:20271107T060000
END:STANDARD
END:VTIMEZONE
BEGIN:VEVENT
DTSTART;VALUE=DATE:20260502
DTEND;VALUE=DATE:20260503
DTSTAMP:20260420T100941
CREATED:20260217T172507Z
LAST-MODIFIED:20260217T172507Z
UID:3621-1777680000-1777766399@vassartownship.org
SUMMARY:Hall Rental - Bindor
DESCRIPTION:
URL:https://vassartownship.org/event/hall-rental-bindor/
CATEGORIES:General Event
END:VEVENT
BEGIN:VEVENT
DTSTART;VALUE=DATE:20260507
DTEND;VALUE=DATE:20260508
DTSTAMP:20260420T100941
CREATED:20251030T162148Z
LAST-MODIFIED:20251030T162148Z
UID:3377-1778112000-1778198399@vassartownship.org
SUMMARY:Trash and Recycling Pick Up
DESCRIPTION:
URL:https://vassartownship.org/event/trash-and-recycling-pick-up-23/
CATEGORIES:General Event
END:VEVENT
BEGIN:VEVENT
DTSTART;VALUE=DATE:20260509
DTEND;VALUE=DATE:20260510
DTSTAMP:20260420T100941
CREATED:20260303T153321Z
LAST-MODIFIED:20260303T153321Z
UID:3678-1778284800-1778371199@vassartownship.org
SUMMARY:Pavilion Rental - Garland
DESCRIPTION:
URL:https://vassartownship.org/event/pavilion-rental-garland/
CATEGORIES:General Event
END:VEVENT
BEGIN:VEVENT
DTSTART;TZID=America/Detroit:20260509T140000
DTEND;TZID=America/Detroit:20260509T170000
DTSTAMP:20260420T100941
CREATED:20260205T121812Z
LAST-MODIFIED:20260205T121812Z
UID:3600-1778335200-1778346000@vassartownship.org
SUMMARY:Mother's Day Event - VTH
DESCRIPTION:
URL:https://vassartownship.org/event/mothers-day-event-vth/
CATEGORIES:General Event
END:VEVENT
BEGIN:VEVENT
DTSTART;VALUE=DATE:20260510
DTEND;VALUE=DATE:20260511
DTSTAMP:20260420T100941
CREATED:20260309T170736Z
LAST-MODIFIED:20260309T170736Z
UID:3686-1778371200-1778457599@vassartownship.org
SUMMARY:Hall Rental - Piazza
DESCRIPTION:
URL:https://vassartownship.org/event/hall-rental-piazza/
CATEGORIES:General Event
END:VEVENT
BEGIN:VEVENT
DTSTART;VALUE=DATE:20260514
DTEND;VALUE=DATE:20260515
DTSTAMP:20260420T100941
CREATED:20251030T162930Z
LAST-MODIFIED:20251030T162930Z
UID:3431-1778716800-1778803199@vassartownship.org
SUMMARY:Trash Pick Up
DESCRIPTION:
URL:https://vassartownship.org/event/trash-pick-up-21/
CATEGORIES:General Event
END:VEVENT
BEGIN:VEVENT
DTSTART;VALUE=DATE:20260521
DTEND;VALUE=DATE:20260522
DTSTAMP:20260420T100941
CREATED:20251030T162202Z
LAST-MODIFIED:20251030T162202Z
UID:3379-1779321600-1779407999@vassartownship.org
SUMMARY:Trash and Recycling Pick Up
DESCRIPTION:
URL:https://vassartownship.org/event/trash-and-recycling-pick-up-24/
CATEGORIES:General Event
END:VEVENT
BEGIN:VEVENT
DTSTART;VALUE=DATE:20260528
DTEND;VALUE=DATE:20260529
DTSTAMP:20260420T100941
CREATED:20251030T162946Z
LAST-MODIFIED:20251030T162946Z
UID:3433-1779926400-1780012799@vassartownship.org
SUMMARY:Trash Pick Up
DESCRIPTION:
URL:https://vassartownship.org/event/trash-pick-up-22/
CATEGORIES:General Event
END:VEVENT
BEGIN:VEVENT
DTSTART;TZID=America/Detroit:20260529T190000
DTEND;TZID=America/Detroit:20260529T220000
DTSTAMP:20260420T100941
CREATED:20260205T121932Z
LAST-MODIFIED:20260205T121932Z
UID:3602-1780081200-1780092000@vassartownship.org
SUMMARY:Teen Glow Party - hall
DESCRIPTION:
URL:https://vassartownship.org/event/teen-glow-party-hall/
CATEGORIES:General Event
END:VEVENT
BEGIN:VEVENT
DTSTART;VALUE=DATE:20260530
DTEND;VALUE=DATE:20260531
DTSTAMP:20260420T100941
CREATED:20260217T172610Z
LAST-MODIFIED:20260217T172610Z
UID:3625-1780099200-1780185599@vassartownship.org
SUMMARY:Hall Rental - Huyghe
DESCRIPTION:
URL:https://vassartownship.org/event/hall-rental-huyghe/
CATEGORIES:General Event
END:VEVENT
END:VCALENDAR