BEGIN:VCALENDAR
VERSION:2.0
PRODID:-//Vassar Township - ECPv6.15.13//NONSGML v1.0//EN
CALSCALE:GREGORIAN
METHOD:PUBLISH
X-WR-CALNAME:Vassar Township
X-ORIGINAL-URL:https://vassartownship.org
X-WR-CALDESC:Events for Vassar Township
REFRESH-INTERVAL;VALUE=DURATION:PT1H
X-Robots-Tag:noindex
X-PUBLISHED-TTL:PT1H
BEGIN:VTIMEZONE
TZID:America/Detroit
BEGIN:DAYLIGHT
TZOFFSETFROM:-0500
TZOFFSETTO:-0400
TZNAME:EDT
DTSTART:20240310T070000
END:DAYLIGHT
BEGIN:STANDARD
TZOFFSETFROM:-0400
TZOFFSETTO:-0500
TZNAME:EST
DTSTART:20241103T060000
END:STANDARD
BEGIN:DAYLIGHT
TZOFFSETFROM:-0500
TZOFFSETTO:-0400
TZNAME:EDT
DTSTART:20250309T070000
END:DAYLIGHT
BEGIN:STANDARD
TZOFFSETFROM:-0400
TZOFFSETTO:-0500
TZNAME:EST
DTSTART:20251102T060000
END:STANDARD
BEGIN:DAYLIGHT
TZOFFSETFROM:-0500
TZOFFSETTO:-0400
TZNAME:EDT
DTSTART:20260308T070000
END:DAYLIGHT
BEGIN:STANDARD
TZOFFSETFROM:-0400
TZOFFSETTO:-0500
TZNAME:EST
DTSTART:20261101T060000
END:STANDARD
END:VTIMEZONE
BEGIN:VEVENT
DTSTART;TZID=America/Detroit:20250703T080000
DTEND;TZID=America/Detroit:20250703T170000
DTSTAMP:20260420T201309
CREATED:20250630T164116Z
LAST-MODIFIED:20250630T164116Z
UID:3016-1751529600-1751562000@vassartownship.org
SUMMARY:Trash and Recycling Pick Up
DESCRIPTION:
URL:https://vassartownship.org/event/trash-and-recycling-pick-up/
CATEGORIES:General Event
END:VEVENT
BEGIN:VEVENT
DTSTART;TZID=America/Detroit:20250710T080000
DTEND;TZID=America/Detroit:20250710T170000
DTSTAMP:20260420T201309
CREATED:20250630T164134Z
LAST-MODIFIED:20250630T164134Z
UID:3018-1752134400-1752166800@vassartownship.org
SUMMARY:Trash Only Pick Up
DESCRIPTION:
URL:https://vassartownship.org/event/trash-only-pick-up/
CATEGORIES:General Event
END:VEVENT
BEGIN:VEVENT
DTSTART;TZID=America/Detroit:20250713T150000
DTEND;TZID=America/Detroit:20250713T190000
DTSTAMP:20260420T201309
CREATED:20250616T183204Z
LAST-MODIFIED:20250616T183204Z
UID:3002-1752418800-1752433200@vassartownship.org
SUMMARY:Pavilion Rental - Monter
DESCRIPTION:
URL:https://vassartownship.org/event/pavilion-rental-monter/
CATEGORIES:General Event
END:VEVENT
BEGIN:VEVENT
DTSTART;TZID=America/Detroit:20250717T080000
DTEND;TZID=America/Detroit:20250717T170000
DTSTAMP:20260420T201309
CREATED:20250630T164151Z
LAST-MODIFIED:20250630T164151Z
UID:3020-1752739200-1752771600@vassartownship.org
SUMMARY:Trash and Recycling Pick Up
DESCRIPTION:
URL:https://vassartownship.org/event/trash-and-recycling-pick-up-2/
CATEGORIES:General Event
END:VEVENT
BEGIN:VEVENT
DTSTART;TZID=America/Detroit:20250719T140000
DTEND;TZID=America/Detroit:20250719T180000
DTSTAMP:20260420T201309
CREATED:20250428T140908Z
LAST-MODIFIED:20250428T140908Z
UID:2922-1752933600-1752948000@vassartownship.org
SUMMARY:Pavilion Rental - Smith
DESCRIPTION:
URL:https://vassartownship.org/event/pavilion-rental-smith/
CATEGORIES:General Event
END:VEVENT
BEGIN:VEVENT
DTSTART;TZID=America/Detroit:20250724T080000
DTEND;TZID=America/Detroit:20250724T170000
DTSTAMP:20260420T201309
CREATED:20250630T164207Z
LAST-MODIFIED:20250630T164207Z
UID:3022-1753344000-1753376400@vassartownship.org
SUMMARY:Trash Pick Up Only
DESCRIPTION:
URL:https://vassartownship.org/event/trash-pick-up-only/
CATEGORIES:General Event
END:VEVENT
BEGIN:VEVENT
DTSTART;VALUE=DATE:20250731
DTEND;VALUE=DATE:20250801
DTSTAMP:20260420T201309
CREATED:20250630T164217Z
LAST-MODIFIED:20250806T132311Z
UID:3024-1753920000-1754006399@vassartownship.org
SUMMARY:Trash and Recycling Pick Up
DESCRIPTION:
URL:https://vassartownship.org/event/trash-and-recycling-pick-up-3/
CATEGORIES:General Event
END:VEVENT
END:VCALENDAR