BEGIN:VCALENDAR
VERSION:2.0
PRODID:-//Vassar Township - ECPv6.15.13//NONSGML v1.0//EN
CALSCALE:GREGORIAN
METHOD:PUBLISH
X-ORIGINAL-URL:https://vassartownship.org
X-WR-CALDESC:Events for Vassar Township
REFRESH-INTERVAL;VALUE=DURATION:PT1H
X-Robots-Tag:noindex
X-PUBLISHED-TTL:PT1H
BEGIN:VTIMEZONE
TZID:America/Detroit
BEGIN:DAYLIGHT
TZOFFSETFROM:-0500
TZOFFSETTO:-0400
TZNAME:EDT
DTSTART:20240310T070000
END:DAYLIGHT
BEGIN:STANDARD
TZOFFSETFROM:-0400
TZOFFSETTO:-0500
TZNAME:EST
DTSTART:20241103T060000
END:STANDARD
BEGIN:DAYLIGHT
TZOFFSETFROM:-0500
TZOFFSETTO:-0400
TZNAME:EDT
DTSTART:20250309T070000
END:DAYLIGHT
BEGIN:STANDARD
TZOFFSETFROM:-0400
TZOFFSETTO:-0500
TZNAME:EST
DTSTART:20251102T060000
END:STANDARD
BEGIN:DAYLIGHT
TZOFFSETFROM:-0500
TZOFFSETTO:-0400
TZNAME:EDT
DTSTART:20260308T070000
END:DAYLIGHT
BEGIN:STANDARD
TZOFFSETFROM:-0400
TZOFFSETTO:-0500
TZNAME:EST
DTSTART:20261101T060000
END:STANDARD
END:VTIMEZONE
BEGIN:VEVENT
DTSTART;TZID=America/Detroit:20250903T170000
DTEND;TZID=America/Detroit:20250903T180000
DTSTAMP:20260421T002504
CREATED:20250902T163750Z
LAST-MODIFIED:20250902T163750Z
UID:3187-1756918800-1756922400@vassartownship.org
SUMMARY:Board of Trustees Special Meeting
DESCRIPTION:
URL:https://vassartownship.org/event/board-of-trustees-special-meeting-6/
CATEGORIES:Board of Trustees
END:VEVENT
BEGIN:VEVENT
DTSTART;TZID=America/Detroit:20250909T190000
DTEND;TZID=America/Detroit:20250909T200000
DTSTAMP:20260421T002504
CREATED:20250702T223758Z
LAST-MODIFIED:20250702T223758Z
UID:3041-1757444400-1757448000@vassartownship.org
SUMMARY:Board of Trustees Regular Meeting
DESCRIPTION:
URL:https://vassartownship.org/event/board-of-trustees-regular-meeting-14/
CATEGORIES:Board of Trustees
END:VEVENT
BEGIN:VEVENT
DTSTART;TZID=America/Detroit:20250922T170000
DTEND;TZID=America/Detroit:20250922T180000
DTSTAMP:20260421T002504
CREATED:20250915T162527Z
LAST-MODIFIED:20250915T162527Z
UID:3211-1758560400-1758564000@vassartownship.org
SUMMARY:Board of Trustees Special Meeting
DESCRIPTION:
URL:https://vassartownship.org/event/board-of-trustees-special-meeting-7/
CATEGORIES:Board of Trustees
END:VEVENT
END:VCALENDAR