BEGIN:VCALENDAR
VERSION:2.0
PRODID:-//Vassar Township - ECPv6.15.13//NONSGML v1.0//EN
CALSCALE:GREGORIAN
METHOD:PUBLISH
X-ORIGINAL-URL:https://vassartownship.org
X-WR-CALDESC:Events for Vassar Township
REFRESH-INTERVAL;VALUE=DURATION:PT1H
X-Robots-Tag:noindex
X-PUBLISHED-TTL:PT1H
BEGIN:VTIMEZONE
TZID:America/Detroit
BEGIN:DAYLIGHT
TZOFFSETFROM:-0500
TZOFFSETTO:-0400
TZNAME:EDT
DTSTART:20240310T070000
END:DAYLIGHT
BEGIN:STANDARD
TZOFFSETFROM:-0400
TZOFFSETTO:-0500
TZNAME:EST
DTSTART:20241103T060000
END:STANDARD
BEGIN:DAYLIGHT
TZOFFSETFROM:-0500
TZOFFSETTO:-0400
TZNAME:EDT
DTSTART:20250309T070000
END:DAYLIGHT
BEGIN:STANDARD
TZOFFSETFROM:-0400
TZOFFSETTO:-0500
TZNAME:EST
DTSTART:20251102T060000
END:STANDARD
BEGIN:DAYLIGHT
TZOFFSETFROM:-0500
TZOFFSETTO:-0400
TZNAME:EDT
DTSTART:20260308T070000
END:DAYLIGHT
BEGIN:STANDARD
TZOFFSETFROM:-0400
TZOFFSETTO:-0500
TZNAME:EST
DTSTART:20261101T060000
END:STANDARD
END:VTIMEZONE
BEGIN:VEVENT
DTSTART;TZID=America/Detroit:20250409T163000
DTEND;TZID=America/Detroit:20250409T164500
DTSTAMP:20260421T125103
CREATED:20250319T212807Z
LAST-MODIFIED:20250325T212833Z
UID:2861-1744216200-1744217100@vassartownship.org
SUMMARY:Election Commission Meeting
DESCRIPTION:
URL:https://vassartownship.org/event/election-commission-meeting-4/
END:VEVENT
BEGIN:VEVENT
DTSTART;TZID=America/Detroit:20250409T164500
DTEND;TZID=America/Detroit:20250409T164500
DTSTAMP:20260421T125103
CREATED:20250319T212807Z
LAST-MODIFIED:20250331T150141Z
UID:2862-1744217100-1744217100@vassartownship.org
SUMMARY:Public Testing
DESCRIPTION:
URL:https://vassartownship.org/event/public-testing/
CATEGORIES:Election Commission
END:VEVENT
END:VCALENDAR